BEGIN:VCALENDAR
VERSION:2.0
PRODID:-//Enterprise Europe Network - ECPv6.15.15//NONSGML v1.0//EN
CALSCALE:GREGORIAN
METHOD:PUBLISH
X-ORIGINAL-URL:https://www.een.sk
X-WR-CALDESC:Udalosti pre Enterprise Europe Network
REFRESH-INTERVAL;VALUE=DURATION:PT1H
X-Robots-Tag:noindex
X-PUBLISHED-TTL:PT1H
BEGIN:VTIMEZONE
TZID:Europe/Bratislava
BEGIN:DAYLIGHT
TZOFFSETFROM:+0100
TZOFFSETTO:+0200
TZNAME:CEST
DTSTART:20250330T010000
END:DAYLIGHT
BEGIN:STANDARD
TZOFFSETFROM:+0200
TZOFFSETTO:+0100
TZNAME:CET
DTSTART:20251026T010000
END:STANDARD
BEGIN:DAYLIGHT
TZOFFSETFROM:+0100
TZOFFSETTO:+0200
TZNAME:CEST
DTSTART:20260329T010000
END:DAYLIGHT
BEGIN:STANDARD
TZOFFSETFROM:+0200
TZOFFSETTO:+0100
TZNAME:CET
DTSTART:20261025T010000
END:STANDARD
BEGIN:DAYLIGHT
TZOFFSETFROM:+0100
TZOFFSETTO:+0200
TZNAME:CEST
DTSTART:20270328T010000
END:DAYLIGHT
BEGIN:STANDARD
TZOFFSETFROM:+0200
TZOFFSETTO:+0100
TZNAME:CET
DTSTART:20271031T010000
END:STANDARD
END:VTIMEZONE
BEGIN:VEVENT
DTSTART;VALUE=DATE:20260526
DTEND;VALUE=DATE:20260528
DTSTAMP:20260422T150448
CREATED:20260409T135218Z
LAST-MODIFIED:20260409T135703Z
UID:2185-1779753600-1779926399@www.een.sk
SUMMARY:Textile Connect 2026
DESCRIPTION:Textile Connect je online platforma zameraná na budovanie zmysluplných spojení medzi spoločnosťami\, dizajnérmi a výrobnými partnermi v textilnom priemysle. Pri príležitosti jej 7. ročníka vás s potešením pozývame na exkluzívne virtuálne podujatie zamerané na nadväzovanie kontaktov\, ktoré spojí kupujúcich\, dodávateľov\, výrobné spoločnosti\, rozvíjajúce sa značky a distribútorov z celej Európy a mimo nej. \nToto podujatie ponúka jedinečnú príležitosť objaviť nových obchodných partnerov\, vymeniť si nápady a preskúmať inovatívne riešenia v dynamickom a medzinárodnom prostredí. Účastníci si budú môcť naplánovať individuálne stretnutia\, rozšíriť si svoju profesionálnu sieť a položiť základy pre úspešnú a dlhodobú spoluprácu. \nKedy: 26.-27. máj 2026 \nAko: online \nKde: https://www.b2match.com/e/textileconnect26 \nPre koho je toto podujatie určené? \n\nDizajnéri alebo nákupcovia\, ktorí sa snažia nadviazať hodnotné partnerstvá s inovatívnymi a udržateľnými výrobnými spoločnosťami\, rozšíriť svoju dodávateľskú základňu a vdýchnuť život novým nápadom\nRozvíjajúce sa značky a startupy hľadajúce spoľahlivých výrobných partnerov\, materiály a poznatky z odvetvia na podporu svojho rastu\nDistribútori\, obchodné domy a módne butiky\, ktorí sa snažia objaviť nové produkty\, značky a dodávateľov na rozšírenie svojho produktového portfólia\nDodávatelia a výrobcovia látok alebo iných textilných materiálov\, ktorí sa snažia spojiť s potenciálnymi klientmi\, prezentovať svoje schopnosti a budovať dlhodobú spoluprácu\nPoskytovatelia špecializovaných služieb pre textilný priemysel\, vrátane šitia\, farbenia\, tlače a ďalších\, ktorí chcú prezentovať svoje odborné znalosti\, zdôrazniť svoje služby a rozšíriť svoju profesionálnu sieť\n\nKontakt: SOPK – Lucia Krišová\, lucia.krisova@sopk.sk
URL:https://www.een.sk/podujatie/textile-connect-2026
LOCATION:ONLINE
END:VEVENT
END:VCALENDAR